BEGIN:VCALENDAR
VERSION:2.0
PRODID:-//Premières Heures Au Monde - ECPv4.8.1//NONSGML v1.0//EN
CALSCALE:GREGORIAN
METHOD:PUBLISH
X-WR-CALNAME:Premières Heures Au Monde
X-ORIGINAL-URL:http://mdnpham.fr
X-WR-CALDESC:Évènements pour Premières Heures Au Monde
BEGIN:VEVENT
DTSTART;TZID=UTC+0:20240516T183000
DTEND;TZID=UTC+0:20240516T210000
DTSTAMP:20260421T131533
CREATED:20240328T110913Z
LAST-MODIFIED:20240429T121407Z
UID:1709-1715884200-1715893200@mdnpham.fr
SUMMARY:AG de l'association PHAM
DESCRIPTION:Assemblée Générale de l’association PHAM \nApéritif partagé à partir de 18h30 \nAG à 19h30 \nVoilà le lien pour vous inscrire \n
URL:http://mdnpham.fr/event/ag-de-lassociation-pham-4/
LOCATION:Maison de naissance PHAM\, 30 avenue du Médipôle\, Bourgoin-Jallieu
END:VEVENT
END:VCALENDAR