BEGIN:VCALENDAR
VERSION:2.0
PRODID:-//Premières Heures Au Monde - ECPv4.8.1//NONSGML v1.0//EN
CALSCALE:GREGORIAN
METHOD:PUBLISH
X-WR-CALNAME:Premières Heures Au Monde
X-ORIGINAL-URL:http://mdnpham.fr
X-WR-CALDESC:Évènements pour Premières Heures Au Monde
BEGIN:VEVENT
DTSTART;TZID=UTC+0:20240321T093000
DTEND;TZID=UTC+0:20240321T113000
DTSTAMP:20260421T054245
CREATED:20231116T102247Z
LAST-MODIFIED:20231116T102247Z
UID:1531-1711013400-1711020600@mdnpham.fr
SUMMARY:Atelier: Besoins fondamentaux et lien d'attachement
DESCRIPTION:Un atelier ludique d’échanges et de partage d’expérience pour comprendre les besoins fondamentaux de bébé et y répondre.\nDes temps de pédagogie et d’outils sophrologique seront au programme pour comprendre\, accompagner le développement de son enfant et poser les bases de la confiance et de l’estime de soi.\nAnimé par Justine Coyaud \nVoilà le lien pour vous inscrire \n
URL:http://mdnpham.fr/event/atelier-besoins-fondamentaux-et-lien-dattachement/
LOCATION:Maison de naissance PHAM\, 30 avenue du Médipôle\, Bourgoin-Jallieu
END:VEVENT
END:VCALENDAR