BEGIN:VCALENDAR
VERSION:2.0
PRODID:-//Premières Heures Au Monde - ECPv4.8.1//NONSGML v1.0//EN
CALSCALE:GREGORIAN
METHOD:PUBLISH
X-WR-CALNAME:Premières Heures Au Monde
X-ORIGINAL-URL:http://mdnpham.fr
X-WR-CALDESC:Évènements pour Premières Heures Au Monde
BEGIN:VEVENT
DTSTART;TZID=UTC+0:20240525T100000
DTEND;TZID=UTC+0:20240525T110000
DTSTAMP:20260421T151006
CREATED:20240328T105844Z
LAST-MODIFIED:20240328T105844Z
UID:1703-1716631200-1716634800@mdnpham.fr
SUMMARY:Atelier Chant prénatal Pôle Physio
DESCRIPTION:Découverte du chant prénatal\nComment l’utiliser pendant sa grossesse\, son accouchement\nAu Pôle Physio à Lyon\nAnimé par Axelle\, chanteuse professionnelle formée au chant prénatal \nVoilà le lien pour vous inscrire \n
URL:http://mdnpham.fr/event/atelier-chant-prenatal-pole-physio/
END:VEVENT
END:VCALENDAR