BEGIN:VCALENDAR
VERSION:2.0
PRODID:-//Premières Heures Au Monde - ECPv4.8.1//NONSGML v1.0//EN
CALSCALE:GREGORIAN
METHOD:PUBLISH
X-WR-CALNAME:Premières Heures Au Monde
X-ORIGINAL-URL:http://mdnpham.fr
X-WR-CALDESC:Évènements pour Premières Heures Au Monde
BEGIN:VEVENT
DTSTART;TZID=UTC+0:20231204T133000
DTEND;TZID=UTC+0:20231204T163000
DTSTAMP:20260420T233121
CREATED:20231005T083321Z
LAST-MODIFIED:20231005T083354Z
UID:1502-1701696600-1701707400@mdnpham.fr
SUMMARY:Atelier Découverte du portage
DESCRIPTION:Venez découvrir le portage physiologique avec Noémie Decotte sage-femme et monitrice de portage. L’occasion de poser vos questions\, d’apprendre sur les bienfaits du portage et d’essayer écharpes et porte-bébés. \nVoilà le lien pour vous inscrire \n
URL:http://mdnpham.fr/event/atelier-decouverte-du-portage-4/
LOCATION:Maison de naissance PHAM\, 30 avenue du Médipôle\, Bourgoin-Jallieu
END:VEVENT
END:VCALENDAR