BEGIN:VCALENDAR
VERSION:2.0
PRODID:-//Premières Heures Au Monde - ECPv4.8.1//NONSGML v1.0//EN
CALSCALE:GREGORIAN
METHOD:PUBLISH
X-WR-CALNAME:Premières Heures Au Monde
X-ORIGINAL-URL:http://mdnpham.fr
X-WR-CALDESC:Évènements pour Premières Heures Au Monde
BEGIN:VEVENT
DTSTART;TZID=UTC+0:20230321T143000
DTEND;TZID=UTC+0:20230321T160000
DTSTAMP:20260420T134759
CREATED:20230227T103521Z
LAST-MODIFIED:20230227T103521Z
UID:1274-1679409000-1679414400@mdnpham.fr
SUMMARY:Atelier DEPLOYEZ VOS AILES ! Venez vivre le chant des oiseaux
DESCRIPTION:A 14h30 à la salle de l’Isle à l’Isle D’Abeau en collaboration avec le théâtre du Vellein\nUn atelier destiné aux jeunes parents et ceux qui vont bientôt le devenir en partenariat avec le théâtre du Vellein\nProfitez d’un moment privilégié de sensibilisation artistique\, entre parents\, autour du chant des oiseaux\n(écoute\, imitation\, reconnaissance du chant…)\, mettant les corps et les voix en mouvement.\nLes participants pourront\, s’ils le souhaitent transmettre à leurs enfants\, certaines explorations proposées.\nPossibilité de venir avec les enfants jusqu’à 4 ans\nGRATUIT\nSUR INSCRIPTION (avant le 17 mars) à billeterie.levellein@capi38.fr\nDans la limite des places disponibles\n
URL:http://mdnpham.fr/event/atelier-deployez-vos-ailes-venez-vivre-le-chant-des-oiseaux/
END:VEVENT
END:VCALENDAR