BEGIN:VCALENDAR
VERSION:2.0
PRODID:-//Premières Heures Au Monde - ECPv4.8.1//NONSGML v1.0//EN
CALSCALE:GREGORIAN
METHOD:PUBLISH
X-WR-CALNAME:Premières Heures Au Monde
X-ORIGINAL-URL:http://mdnpham.fr
X-WR-CALDESC:Évènements pour Premières Heures Au Monde
BEGIN:VEVENT
DTSTART;TZID=UTC+0:20230110T140000
DTEND;TZID=UTC+0:20230110T160000
DTSTAMP:20260420T072853
CREATED:20221122T095141Z
LAST-MODIFIED:20221219T095011Z
UID:1192-1673359200-1673366400@mdnpham.fr
SUMMARY:Atelier DME
DESCRIPTION:Un atelier découverte de la DME (Diversification Alimentaire Menée par l’Enfant) afin de répondre à toutes les questions et avoir les clés pour débuter la DME avec bébé. Un atelier animé par Laurène\, formée à la DME par des diététiciens nutritionnistes spécialisés par l’alimentation de l’enfant. \nEn présentiel à la maison de naissance \nVoilà le lien pour vous inscrire \n
URL:http://mdnpham.fr/event/atelier-dme-3/
END:VEVENT
END:VCALENDAR