BEGIN:VCALENDAR
VERSION:2.0
PRODID:-//Premières Heures Au Monde - ECPv4.8.1//NONSGML v1.0//EN
CALSCALE:GREGORIAN
METHOD:PUBLISH
X-WR-CALNAME:Premières Heures Au Monde
X-ORIGINAL-URL:http://mdnpham.fr
X-WR-CALDESC:Évènements pour Premières Heures Au Monde
BEGIN:VEVENT
DTSTART;TZID=UTC+0:20230711T140000
DTEND;TZID=UTC+0:20230711T163000
DTSTAMP:20260420T165214
CREATED:20230512T090738Z
LAST-MODIFIED:20230512T090738Z
UID:1391-1689084000-1689093000@mdnpham.fr
SUMMARY:Atelier DME
DESCRIPTION:Un atelier animé par Laurène Saba sur la diversification menée par l’enfant. L’occasion de découvrir\, poser vos questions\, recueillir des astuces\, témoignages et même quelques recettes.\nCet atelier se déroule à la maison de naissance PHAM \nVoilà le lien pour vous inscrire \n
URL:http://mdnpham.fr/event/atelier-dme-4/
LOCATION:Maison de naissance PHAM\, 30 avenue du Médipôle\, Bourgoin-Jallieu
END:VEVENT
END:VCALENDAR