BEGIN:VCALENDAR
VERSION:2.0
PRODID:-//Premières Heures Au Monde - ECPv4.8.1//NONSGML v1.0//EN
CALSCALE:GREGORIAN
METHOD:PUBLISH
X-WR-CALNAME:Premières Heures Au Monde
X-ORIGINAL-URL:http://mdnpham.fr
X-WR-CALDESC:Évènements pour Premières Heures Au Monde
BEGIN:VEVENT
DTSTART;TZID=UTC+0:20231207T203000
DTEND;TZID=UTC+0:20231207T220000
DTSTAMP:20260421T005912
CREATED:20231017T092117Z
LAST-MODIFIED:20231017T092117Z
UID:1512-1701981000-1701986400@mdnpham.fr
SUMMARY:Atelier Elément Aquatique 2/6 ans VISIO
DESCRIPTION:L’élément aquatique est souvent synonyme de questionnement\, et parfois même d’angoisse\, quand on devient parent.\nRéunion en visio sur la plateforme zoom\nVoilà le lien pour vous inscrire\n\nIl existe des méthodes simples et efficaces à réaliser chez vous\, dans la baignoire\, ou en piscine afin que votre enfant développe son amour de l’eau\, se mette en sécurité et crée ses fondations aquatiques tout en respectant son développement psychomoteur.\n\nDécouvrons-les ensemble et échangeons autour de ces sujets pour votre enfant de 2 à 6 ans : Comment porter votre enfant dans l’eau ? Comment lui apprendre à devenir indépendant ? Comment éviter qu’il ne développe des peurs ? Que faire avec lui en piscine et en baignoire pour développer ses fondations aquatiques ? Comment apprendre à bloquer sa respiration ? Comment apprendre à flotter ? Comment apprendre à bouger ses bras et ses jambes …\n\nApprenez toutes les manières de permettre à votre enfant de passer de doux moments de bain et de piscine tout en développant ses fondations aquatiques.\nAnimé par Emeline coach en natation bébé\n\n
URL:http://mdnpham.fr/event/atelier-element-aquatique-2-6-ans-visio/
END:VEVENT
END:VCALENDAR