BEGIN:VCALENDAR
VERSION:2.0
PRODID:-//Premières Heures Au Monde - ECPv4.8.1//NONSGML v1.0//EN
CALSCALE:GREGORIAN
METHOD:PUBLISH
X-WR-CALNAME:Premières Heures Au Monde
X-ORIGINAL-URL:http://mdnpham.fr
X-WR-CALDESC:Évènements pour Premières Heures Au Monde
BEGIN:VEVENT
DTSTART;TZID=UTC+0:20240312T100000
DTEND;TZID=UTC+0:20240312T120000
DTSTAMP:20260421T103324
CREATED:20231222T094635Z
LAST-MODIFIED:20240226T091544Z
UID:1597-1710237600-1710244800@mdnpham.fr
SUMMARY:Atelier Emotions et Grossesse VISIO
DESCRIPTION:Cet atelier permet de mettre des mots sur les émotions pour essayer de les accueillir\, les comprendre et mieux les vivre. C’est aussi l’occasion d’échanger et de se sentir moins seule à cette période particulière de la vie. Tout cela dans un cadre totalement bienveillant\nAnimé par Claire Schepers en visio \nVoilà le lien pour vous inscrire \n
URL:http://mdnpham.fr/event/atelier-emotions-et-grossesse-visio/
END:VEVENT
END:VCALENDAR