BEGIN:VCALENDAR
VERSION:2.0
PRODID:-//Premières Heures Au Monde - ECPv4.8.1//NONSGML v1.0//EN
CALSCALE:GREGORIAN
METHOD:PUBLISH
X-WR-CALNAME:Premières Heures Au Monde
X-ORIGINAL-URL:http://mdnpham.fr
X-WR-CALDESC:Évènements pour Premières Heures Au Monde
BEGIN:VEVENT
DTSTART;TZID=UTC+0:20221212T203000
DTEND;TZID=UTC+0:20221212T223000
DTSTAMP:20260420T121717
CREATED:20221108T112154Z
LAST-MODIFIED:20221108T112154Z
UID:1184-1670877000-1670884200@mdnpham.fr
SUMMARY:Atelier Exploration emotionnelle
DESCRIPTION:Atelier Exploration émotionnelle par Claire Schepers: Mettre des mots sur la naissance. \nRéunion en visio sur ZOOM. \nVoici le lien pour vous inscrire \n
URL:http://mdnpham.fr/event/atelier-exploration-emotionnelle/
ORGANIZER;CN="Maison%20de%20naissance%20PHAM":MAILTO:contact@mdnpham.fr
END:VEVENT
END:VCALENDAR