BEGIN:VCALENDAR
VERSION:2.0
PRODID:-//Premières Heures Au Monde - ECPv4.8.1//NONSGML v1.0//EN
CALSCALE:GREGORIAN
METHOD:PUBLISH
X-WR-CALNAME:Premières Heures Au Monde
X-ORIGINAL-URL:http://mdnpham.fr
X-WR-CALDESC:Évènements pour Premières Heures Au Monde
BEGIN:VEVENT
DTSTART;TZID=UTC+0:20221018T093000
DTEND;TZID=UTC+0:20221018T113000
DTSTAMP:20260420T190628
CREATED:20220812T052522Z
LAST-MODIFIED:20220812T052610Z
UID:1120-1666085400-1666092600@mdnpham.fr
SUMMARY:Atelier Haptonomie
DESCRIPTION:Atelier découverte de l’haptonomie proposé par Sandra Cornaz. Particulièrement sur comment l’haptonomie peut modifier la perception de la douleur\, du stress… \nVoici le lien pour vous inscrire \n
URL:http://mdnpham.fr/event/atelier-haptonomie-2/
LOCATION:Maison de naissance PHAM\, 30 avenue du Médipôle\, Bourgoin-Jallieu
ORGANIZER;CN="Maison%20de%20naissance%20PHAM":MAILTO:contact@mdnpham.fr
END:VEVENT
END:VCALENDAR