BEGIN:VCALENDAR
VERSION:2.0
PRODID:-//Premières Heures Au Monde - ECPv4.8.1//NONSGML v1.0//EN
CALSCALE:GREGORIAN
METHOD:PUBLISH
X-WR-CALNAME:Premières Heures Au Monde
X-ORIGINAL-URL:http://mdnpham.fr
X-WR-CALDESC:Évènements pour Premières Heures Au Monde
BEGIN:VEVENT
DTSTART;TZID=UTC+0:20221117T093000
DTEND;TZID=UTC+0:20221117T113000
DTSTAMP:20260420T104047
CREATED:20221018T091132Z
LAST-MODIFIED:20221018T091132Z
UID:1175-1668677400-1668684600@mdnpham.fr
SUMMARY:Atelier HNI et couches lavables
DESCRIPTION:Venez découvrir les couches lavables ainsi que l’hygiène naturelle infantile lors d’un atelier animé par Mathilde (sage-femme à PHAM) \nVous pouvez également participer pour témoigner de vos expériences à ces sujets. \nVoici le lien pour vous inscrire \n
URL:http://mdnpham.fr/event/atelier-hni-et-couches-lavables-2/
LOCATION:Maison de naissance PHAM\, 30 avenue du Médipôle\, Bourgoin-Jallieu
ORGANIZER;CN="Maison%20de%20naissance%20PHAM":MAILTO:contact@mdnpham.fr
END:VEVENT
END:VCALENDAR