BEGIN:VCALENDAR
VERSION:2.0
PRODID:-//Premières Heures Au Monde - ECPv4.8.1//NONSGML v1.0//EN
CALSCALE:GREGORIAN
METHOD:PUBLISH
X-WR-CALNAME:Premières Heures Au Monde
X-ORIGINAL-URL:http://mdnpham.fr
X-WR-CALDESC:Évènements pour Premières Heures Au Monde
BEGIN:VEVENT
DTSTART;TZID=UTC+0:20240125T093000
DTEND;TZID=UTC+0:20240125T113000
DTSTAMP:20260421T010255
CREATED:20231017T092515Z
LAST-MODIFIED:20231017T092515Z
UID:1514-1706175000-1706182200@mdnpham.fr
SUMMARY:Atelier la communication non violente dans la famille
DESCRIPTION:Un atelier animé par Sandra Cornaz et Camille Depaix pour parler de la communication non violente et particulièrement dans le cadre de la famille. \nVoilà le lien pour vous inscrire \n
URL:http://mdnpham.fr/event/atelier-la-communication-non-violente-dans-la-famille-2/
END:VEVENT
END:VCALENDAR