BEGIN:VCALENDAR
VERSION:2.0
PRODID:-//Premières Heures Au Monde - ECPv4.8.1//NONSGML v1.0//EN
CALSCALE:GREGORIAN
METHOD:PUBLISH
X-WR-CALNAME:Premières Heures Au Monde
X-ORIGINAL-URL:http://mdnpham.fr
X-WR-CALDESC:Évènements pour Premières Heures Au Monde
BEGIN:VEVENT
DTSTART;TZID=UTC+0:20230915T093000
DTEND;TZID=UTC+0:20230915T113000
DTSTAMP:20260420T215234
CREATED:20230620T085133Z
LAST-MODIFIED:20230620T085133Z
UID:1437-1694770200-1694777400@mdnpham.fr
SUMMARY:Atelier: La motricité de bébé de 0 à 2 ans
DESCRIPTION:Atelier animé par Marine Euvrard psychomotricienne sur le développement moteur du bébé. L’occasion de comprendre la motricité des tout petits. \nVoilà le lien pour vous inscrire \n
URL:http://mdnpham.fr/event/atelier-la-motricite-de-bebe-de-0-a-2-ans/
END:VEVENT
END:VCALENDAR