BEGIN:VCALENDAR
VERSION:2.0
PRODID:-//Premières Heures Au Monde - ECPv4.8.1//NONSGML v1.0//EN
CALSCALE:GREGORIAN
METHOD:PUBLISH
X-WR-CALNAME:Premières Heures Au Monde
X-ORIGINAL-URL:http://mdnpham.fr
X-WR-CALDESC:Évènements pour Premières Heures Au Monde
BEGIN:VEVENT
DTSTART;TZID=UTC+0:20240607T130000
DTEND;TZID=UTC+0:20240607T150000
DTSTAMP:20260421T133134
CREATED:20240328T105513Z
LAST-MODIFIED:20240515T132121Z
UID:1701-1717765200-1717772400@mdnpham.fr
SUMMARY:Atelier: La réflexologie plantaire pour les tout petits VISIO
DESCRIPTION:Un atelier sur la découverte de la réflexologie afin de vous initier aux bons gestes pour soulager les petits maux de bébé avec Delphine Poirier\nEn visio sur la plateforme zoom \nVoilà le lien pour vous inscrire \n
URL:http://mdnpham.fr/event/atelier-la-reflexologie-plantaire-pour-les-tout-petits-visio-2/
END:VEVENT
END:VCALENDAR