BEGIN:VCALENDAR
VERSION:2.0
PRODID:-//Premières Heures Au Monde - ECPv4.8.1//NONSGML v1.0//EN
CALSCALE:GREGORIAN
METHOD:PUBLISH
X-WR-CALNAME:Premières Heures Au Monde
X-ORIGINAL-URL:http://mdnpham.fr
X-WR-CALDESC:Évènements pour Premières Heures Au Monde
BEGIN:VEVENT
DTSTART;TZID=UTC+0:20231104T100000
DTEND;TZID=UTC+0:20231104T120000
DTSTAMP:20260420T235453
CREATED:20231016T095853Z
LAST-MODIFIED:20231016T095853Z
UID:1509-1699092000-1699099200@mdnpham.fr
SUMMARY:Atelier La succion de votre bébé - au sein et au biberon POLE PHYSIO
DESCRIPTION:Atelier animé par Lisa Freudenberger\, ostéopathe formée à l’allaitement et aux freins buccaux restrictifs\, pour parler de la succion de votre bébé. Nous allons parler de l’allaitement maternel et des alternatives à l’allaitement. \nAtelier s’adressant aux futurs parents. \nVoilà le lien pour vous inscrire \nL’atelier aura lieu au cabinet Pôle Physio à Lyon 7 le samedi 4 novembre de 10-12h.\n2 Rue Lieutenant Colonel Girard\, 69007 Lyon \n
URL:http://mdnpham.fr/event/atelier-la-succion-de-votre-bebe-au-sein-et-au-biberon-pole-physio/
LOCATION:Pôle Physio\, 2 rue Lieutenant Colonel Girard\, LYON\, 69007\, France
END:VEVENT
END:VCALENDAR