BEGIN:VCALENDAR
VERSION:2.0
PRODID:-//Premières Heures Au Monde - ECPv4.8.1//NONSGML v1.0//EN
CALSCALE:GREGORIAN
METHOD:PUBLISH
X-WR-CALNAME:Premières Heures Au Monde
X-ORIGINAL-URL:http://mdnpham.fr
X-WR-CALDESC:Évènements pour Premières Heures Au Monde
BEGIN:VEVENT
DTSTART;TZID=UTC+0:20240309T100000
DTEND;TZID=UTC+0:20240309T120000
DTSTAMP:20260421T103451
CREATED:20240229T092553Z
LAST-MODIFIED:20240229T095542Z
UID:1664-1709978400-1709985600@mdnpham.fr
SUMMARY:Atelier Massage bébé Pôle Physio
DESCRIPTION:Atelier destiné aux jeunes parents avec leurs bébés de 2 à 7 mois. Cécile Hebert\, accompagnante périnatale vous détaillera les différents gestes adaptés au massage de votre tout-petit. L’occasion d’apporter de la détente et de tisser du lien entre vous. \nAtelier au Pôle Physio 2 Rue Lieutenant Colonel Girard 69007 Lyon \nVoilà le lien pour vous inscrire \n
URL:http://mdnpham.fr/event/atelier-massage-bebe-pole-physio/
LOCATION:Pôle Physio\, 2 rue Lieutenant Colonel Girard\, LYON\, 69007\, France
END:VEVENT
END:VCALENDAR