BEGIN:VCALENDAR
VERSION:2.0
PRODID:-//Premières Heures Au Monde - ECPv4.8.1//NONSGML v1.0//EN
CALSCALE:GREGORIAN
METHOD:PUBLISH
X-WR-CALNAME:Premières Heures Au Monde
X-ORIGINAL-URL:http://mdnpham.fr
X-WR-CALDESC:Évènements pour Premières Heures Au Monde
BEGIN:VEVENT
DTSTART;TZID=UTC+0:20230505T180000
DTEND;TZID=UTC+0:20230505T200000
DTSTAMP:20260420T170100
CREATED:20230418T091538Z
LAST-MODIFIED:20230421T091555Z
UID:1377-1683309600-1683316800@mdnpham.fr
SUMMARY:Atelier Massage en couple de la femme enceinte (LYON)
DESCRIPTION:Atelier massage en couple: apprenez à détendre votre partenaire pendant la grossesse \nVoilà le lien pour vous inscrire \nLe massage prénatal en couple est une experience qui vous permet de vous connecter avec votre partenaire tout en soulageant les douleurs et tensions de la grossesse.\nAu cours de l’atelier vous apprendrez des techniques de massages spécialement adaptées à la femme enceinte.\nOrganisé par Sarah Poplimont thérapeute psycho corporelle spécialisée dans la périnatalité.\,\nAu Pôle Physio\n2 rue Lieutenant Colonel Girard\nLYON 69007 \n  \n
URL:http://mdnpham.fr/event/atelier-massage-de-la-femme-enceinte/
LOCATION:Pôle Physio\, 2 rue Lieutenant Colonel Girard\, LYON\, 69007\, France
END:VEVENT
END:VCALENDAR