BEGIN:VCALENDAR
VERSION:2.0
PRODID:-//Premières Heures Au Monde - ECPv4.8.1//NONSGML v1.0//EN
CALSCALE:GREGORIAN
METHOD:PUBLISH
X-WR-CALNAME:Premières Heures Au Monde
X-ORIGINAL-URL:http://mdnpham.fr
X-WR-CALDESC:Évènements pour Premières Heures Au Monde
BEGIN:VEVENT
DTSTART;TZID=UTC+0:20240116T093000
DTEND;TZID=UTC+0:20240116T123000
DTSTAMP:20260421T034755
CREATED:20231116T095829Z
LAST-MODIFIED:20231116T095829Z
UID:1525-1705397400-1705408200@mdnpham.fr
SUMMARY:Atelier Portage écharpe tissée
DESCRIPTION:Venez vous initier ou vous perfectionner au portage en écharpe tissée avec Laurène Saba monitrice de portage \nVoilà le lien pour inscrire \n
URL:http://mdnpham.fr/event/atelier-portage-echarpe-tissee/
LOCATION:Maison de naissance PHAM\, 30 avenue du Médipôle\, Bourgoin-Jallieu
END:VEVENT
END:VCALENDAR