BEGIN:VCALENDAR
VERSION:2.0
PRODID:-//Premières Heures Au Monde - ECPv4.8.1//NONSGML v1.0//EN
CALSCALE:GREGORIAN
METHOD:PUBLISH
X-WR-CALNAME:Premières Heures Au Monde
X-ORIGINAL-URL:http://mdnpham.fr
X-WR-CALDESC:Évènements pour Premières Heures Au Monde
BEGIN:VEVENT
DTSTART;TZID=UTC+0:20240507T093000
DTEND;TZID=UTC+0:20240507T113000
DTSTAMP:20260421T090117
CREATED:20240202T122818Z
LAST-MODIFIED:20240425T093829Z
UID:1641-1715074200-1715081400@mdnpham.fr
SUMMARY:Atelier portage Passage dos
DESCRIPTION:Atelier de portage animé par Laurène Saba\, monitrice de portage. L’occasion de s’initier au passage dos que ce soit en écharpe\, en maï taï ou en préformé \nVoilà le lien pour vous inscrire \n
URL:http://mdnpham.fr/event/atelier-portage-passage-dos-2/
LOCATION:Maison de naissance PHAM\, 30 avenue du Médipôle\, Bourgoin-Jallieu
END:VEVENT
END:VCALENDAR