BEGIN:VCALENDAR
VERSION:2.0
PRODID:-//Premières Heures Au Monde - ECPv4.8.1//NONSGML v1.0//EN
CALSCALE:GREGORIAN
METHOD:PUBLISH
X-WR-CALNAME:Premières Heures Au Monde
X-ORIGINAL-URL:http://mdnpham.fr
X-WR-CALDESC:Évènements pour Premières Heures Au Monde
BEGIN:VEVENT
DTSTART;TZID=UTC+0:20230928T190000
DTEND;TZID=UTC+0:20230928T210000
DTSTAMP:20260420T152653
CREATED:20230314T100952Z
LAST-MODIFIED:20230316T093733Z
UID:1295-1695927600-1695934800@mdnpham.fr
SUMMARY:Atelier Pourquoi l'amour est essentiel au bébé qui naît
DESCRIPTION:Second atelier avec le Dr Serban sur les même thématiques que celui d’avril. Atelier en présence du couple du du bébé si possible \nL’Atelier aura lieu au Pôle Physio à Lyon 7 \n
URL:http://mdnpham.fr/event/atelier-pourquoi-lamour-est-essentiel-au-bebe-qui-nait-2/
END:VEVENT
END:VCALENDAR