BEGIN:VCALENDAR
VERSION:2.0
PRODID:-//Premières Heures Au Monde - ECPv4.8.1//NONSGML v1.0//EN
CALSCALE:GREGORIAN
METHOD:PUBLISH
X-WR-CALNAME:Premières Heures Au Monde
X-ORIGINAL-URL:http://mdnpham.fr
X-WR-CALDESC:Évènements pour Premières Heures Au Monde
BEGIN:VEVENT
DTSTART;TZID=UTC+0:20230406T190000
DTEND;TZID=UTC+0:20230406T210000
DTSTAMP:20260420T165311
CREATED:20230314T095844Z
LAST-MODIFIED:20230316T093524Z
UID:1291-1680807600-1680814800@mdnpham.fr
SUMMARY:Atelier Pourquoi l'amour est essentiel au bébé qui naît
DESCRIPTION:Inscription pour une série de deux ateliers (le suivant aura lieu le 28 sept) \nLe pédiatre Dr Serban abordera l’allaitement maternel\, le maternage proximal et le développement du cerveau. Atelier à réaliser en couple pendant la grossesse. \nCes ateliers se dérouleront au cabinet Pôle Physio à Lyon 7 \nVoilà le lien pour vous inscrire \n
URL:http://mdnpham.fr/event/atelier-pourquoi-lamour-est-essentiel-au-bebe-qui-nait/
END:VEVENT
END:VCALENDAR