BEGIN:VCALENDAR
VERSION:2.0
PRODID:-//Premières Heures Au Monde - ECPv4.8.1//NONSGML v1.0//EN
CALSCALE:GREGORIAN
METHOD:PUBLISH
X-WR-CALNAME:Premières Heures Au Monde
X-ORIGINAL-URL:http://mdnpham.fr
X-WR-CALDESC:Évènements pour Premières Heures Au Monde
BEGIN:VEVENT
DTSTART;TZID=UTC+0:20230505T093000
DTEND;TZID=UTC+0:20230505T113000
DTSTAMP:20260420T152110
CREATED:20230316T101631Z
LAST-MODIFIED:20230316T101631Z
UID:1302-1683279000-1683286200@mdnpham.fr
SUMMARY:Atelier Rebozo post natal
DESCRIPTION:Venez découvrir avec Sandra Cornaz la tradition et les bienfaits des massages\, bercements et enserrements rebozo.\nCet atelier est destiné aux jeunes couples\, afin de voir comment soulager les maux du post-partum et apporter du confort à la maman.\nUn petit temps sera consacré au rebozo avec bébé \nVoilà le lien pour vous inscrire \n
URL:http://mdnpham.fr/event/atelier-rebozo-post-natal/
END:VEVENT
END:VCALENDAR