BEGIN:VCALENDAR
VERSION:2.0
PRODID:-//Premières Heures Au Monde - ECPv4.8.1//NONSGML v1.0//EN
CALSCALE:GREGORIAN
METHOD:PUBLISH
X-WR-CALNAME:Premières Heures Au Monde
X-ORIGINAL-URL:http://mdnpham.fr
X-WR-CALDESC:Évènements pour Premières Heures Au Monde
BEGIN:VEVENT
DTSTART;TZID=UTC+0:20240516T140000
DTEND;TZID=UTC+0:20240516T160000
DTSTAMP:20260421T115604
CREATED:20240318T105946Z
LAST-MODIFIED:20240318T105946Z
UID:1676-1715868000-1715875200@mdnpham.fr
SUMMARY:Atelier Rythmes et Sommeil de bébé VISIO
DESCRIPTION:Atelier en visio animé par Alexia Aigloz\, consultante en sommeil\nVenez découvrir le sommeil et les rythmes du bébé de 0 à 2 ans \nEn visio \nVoilà le lien pour vous inscrire  \n
URL:http://mdnpham.fr/event/atelier-rythmes-et-sommeil-de-bebe-visio-2/
END:VEVENT
END:VCALENDAR