BEGIN:VCALENDAR
VERSION:2.0
PRODID:-//Premières Heures Au Monde - ECPv4.8.1//NONSGML v1.0//EN
CALSCALE:GREGORIAN
METHOD:PUBLISH
X-WR-CALNAME:Premières Heures Au Monde
X-ORIGINAL-URL:http://mdnpham.fr
X-WR-CALDESC:Évènements pour Premières Heures Au Monde
BEGIN:VEVENT
DTSTART;TZID=UTC+0:20231020T093000
DTEND;TZID=UTC+0:20231020T113000
DTSTAMP:20260420T215626
CREATED:20230918T094446Z
LAST-MODIFIED:20230918T094446Z
UID:1485-1697794200-1697801400@mdnpham.fr
SUMMARY:Atelier Signer avec bébé
DESCRIPTION:Un atelier avec Sandra Cornaz pour découvrir comment signer avec bébé. \nVoilà le lien pour vous connecter \n
URL:http://mdnpham.fr/event/atelier-signer-avec-bebe-7/
LOCATION:Maison de naissance PHAM\, 30 avenue du Médipôle\, Bourgoin-Jallieu
END:VEVENT
END:VCALENDAR