BEGIN:VCALENDAR
VERSION:2.0
PRODID:-//Premières Heures Au Monde - ECPv4.8.1//NONSGML v1.0//EN
CALSCALE:GREGORIAN
METHOD:PUBLISH
X-WR-CALNAME:Premières Heures Au Monde
X-ORIGINAL-URL:http://mdnpham.fr
X-WR-CALDESC:Évènements pour Premières Heures Au Monde
BEGIN:VEVENT
DTSTART;TZID=UTC+0:20230317T203000
DTEND;TZID=UTC+0:20230317T220000
DTSTAMP:20260420T152623
CREATED:20230217T093011Z
LAST-MODIFIED:20230217T093011Z
UID:1256-1679085000-1679090400@mdnpham.fr
SUMMARY:Café des parents: Allaitement des grands bambins (Visio)
DESCRIPTION:Allaiter un enfant de plus de 3 ans\, ce n’est pas fréquent. Si vous le vivez\, l’avez vécu et voulez partager votre expérience et votre ressenti cette discussion est faite pour vous. \nSi vous êtes accompagnante ou conseillère en allaitement et lactation\, vous pouvez également vous joindre à la discussion. \nVoilà le lien pour vous inscrire \n
URL:http://mdnpham.fr/event/cafe-des-parents-allaitement-des-grands-bambins-visio/
END:VEVENT
END:VCALENDAR