BEGIN:VCALENDAR
VERSION:2.0
PRODID:-//Premières Heures Au Monde - ECPv4.8.1//NONSGML v1.0//EN
CALSCALE:GREGORIAN
METHOD:PUBLISH
X-WR-CALNAME:Premières Heures Au Monde
X-ORIGINAL-URL:http://mdnpham.fr
X-WR-CALDESC:Évènements pour Premières Heures Au Monde
BEGIN:VEVENT
DTSTART;TZID=UTC+0:20230711T203000
DTEND;TZID=UTC+0:20230711T220000
DTSTAMP:20260420T184046
CREATED:20230608T084452Z
LAST-MODIFIED:20230608T084551Z
UID:1425-1689107400-1689112800@mdnpham.fr
SUMMARY:Café des parents: En vacances avec bébé VISIO
DESCRIPTION:C’est l’été! Et c’est aussi l’occasion de voyager ou se balader avec son bébé. Si vous avez des questions\, ou des témoignages sur ce sujet ce café des parents est fait pour vous. Discussion conviviale entre parents sur la plateforme zoom \n  \nVoilà le lien pour vous inscrire \n
URL:http://mdnpham.fr/event/cafe-des-parents-en-vacances-avec-bebe/
END:VEVENT
END:VCALENDAR