BEGIN:VCALENDAR
VERSION:2.0
PRODID:-//Premières Heures Au Monde - ECPv4.8.1//NONSGML v1.0//EN
CALSCALE:GREGORIAN
METHOD:PUBLISH
X-WR-CALNAME:Premières Heures Au Monde
X-ORIGINAL-URL:http://mdnpham.fr
X-WR-CALDESC:Évènements pour Premières Heures Au Monde
BEGIN:VEVENT
DTSTART;TZID=UTC+0:20231017T203000
DTEND;TZID=UTC+0:20231017T220000
DTSTAMP:20260420T214816
CREATED:20230718T093730Z
LAST-MODIFIED:20230718T093730Z
UID:1460-1697574600-1697580000@mdnpham.fr
SUMMARY:Café des parents: Etre parents en 2023
DESCRIPTION:Être parent est un chamboulement dès lors que le test de grossesse est positif. Pères et mères se posent des tas de questions dans l’intérêt de bien faire auprès de son enfant. Que signifie être parent et même être un bon parent ? Quel sens donnons-nous à cela\, en 2023\, à l’heure où les réseaux sociaux\, les médias et les nouveaux professionnels autour de la parentalité et de l’enfance nous assomment de conseils pour bien faire et être le meilleur parent. Venez échanger avec d’autres parents sur ce qui fait sens pour vous\, vos difficultés\, vos astuces et conseils\, vos émotions autour de ce sujet crucial qu’est la parentalité. Un échange en toute bienveillance pour partager avec d’autres parents qui vivent sensiblement la même chose que vous au quotidien ! \nVoilà le lien pour votre inscrire \n
URL:http://mdnpham.fr/event/cafe-des-parents-etre-parents-en-2023-2/
END:VEVENT
END:VCALENDAR