BEGIN:VCALENDAR
VERSION:2.0
PRODID:-//Premières Heures Au Monde - ECPv4.8.1//NONSGML v1.0//EN
CALSCALE:GREGORIAN
METHOD:PUBLISH
X-WR-CALNAME:Premières Heures Au Monde
X-ORIGINAL-URL:http://mdnpham.fr
X-WR-CALDESC:Évènements pour Premières Heures Au Monde
BEGIN:VEVENT
DTSTART;TZID=UTC+0:20230317T133000
DTEND;TZID=UTC+0:20230317T153000
DTSTAMP:20260420T122015
CREATED:20230119T091101Z
LAST-MODIFIED:20230119T091101Z
UID:1241-1679059800-1679067000@mdnpham.fr
SUMMARY:Café des parents: Le langage de bébé (visio)
DESCRIPTION:Temps d’échange convivial entre parents pour discuter du langage non verbal. Comment comprendre et reconnaitre les attitudes et pleurs de bébé pour y répondre au mieux?\nVenez partager votre expérience et vos astuces\nEn présence de Delphine Poirier\, accompagnante à la parentalité\nRéunion en visio sur la plateforme zoom \nVoilà le lien pour vous inscrire \n
URL:http://mdnpham.fr/event/cafe-des-parents-le-langage-de-bebe-visio/
END:VEVENT
END:VCALENDAR