BEGIN:VCALENDAR
VERSION:2.0
PRODID:-//Premières Heures Au Monde - ECPv4.8.1//NONSGML v1.0//EN
CALSCALE:GREGORIAN
METHOD:PUBLISH
X-WR-CALNAME:Premières Heures Au Monde
X-ORIGINAL-URL:http://mdnpham.fr
X-WR-CALDESC:Évènements pour Premières Heures Au Monde
BEGIN:VEVENT
DTSTART;TZID=UTC+0:20230926T203000
DTEND;TZID=UTC+0:20230926T220000
DTSTAMP:20260420T184453
CREATED:20230608T092922Z
LAST-MODIFIED:20230608T092922Z
UID:1434-1695760200-1695765600@mdnpham.fr
SUMMARY:Café des parents: Retrouver du sens dans va vie pro après bébé VISIO
DESCRIPTION:Discussion conviviale et bienveillante pour évoquer le sens de sa vie professionnelle. Qu’est ce qui a changé pour vous avec la maternité ou la paternité dans votre travail?\nVenez échanger librement.\nEchange en visio sur la plateforme zoom \nVoilà le lien pour vous inscrire \n
URL:http://mdnpham.fr/event/cafe-des-parents-retrouver-du-sens-dans-va-vie-pro-apres-bebe-visio/
END:VEVENT
END:VCALENDAR