BEGIN:VCALENDAR
VERSION:2.0
PRODID:-//Premières Heures Au Monde - ECPv4.8.1//NONSGML v1.0//EN
CALSCALE:GREGORIAN
METHOD:PUBLISH
X-WR-CALNAME:Premières Heures Au Monde
X-ORIGINAL-URL:http://mdnpham.fr
X-WR-CALDESC:Évènements pour Premières Heures Au Monde
BEGIN:VEVENT
DTSTART;TZID=UTC+0:20240513T093000
DTEND;TZID=UTC+0:20240513T113000
DTSTAMP:20260421T071123
CREATED:20240125T102100Z
LAST-MODIFIED:20240328T090708Z
UID:1633-1715592600-1715599800@mdnpham.fr
SUMMARY:Cercle de parole: Booster son ocytocine
DESCRIPTION:Camille Depaix vous accueille pour un cercle de parole plein de douceur et d’échange dont l’objectif est d’aller sereinement vers son accouchement en faisant bourgeonner d’ocytocine son dernier trimestre de grossesse \nVoilà le lien pour vous inscrire \n
URL:http://mdnpham.fr/event/cercle-de-parole-booster-son-ocytocine/
LOCATION:Maison de naissance PHAM\, 30 avenue du Médipôle\, Bourgoin-Jallieu
END:VEVENT
END:VCALENDAR