BEGIN:VCALENDAR
VERSION:2.0
PRODID:-//Premières Heures Au Monde - ECPv4.8.1//NONSGML v1.0//EN
CALSCALE:GREGORIAN
METHOD:PUBLISH
X-WR-CALNAME:Premières Heures Au Monde
X-ORIGINAL-URL:http://mdnpham.fr
X-WR-CALDESC:Évènements pour Premières Heures Au Monde
BEGIN:VEVENT
DTSTART;TZID=UTC+0:20230425T080000
DTEND;TZID=UTC+0:20230425T170000
DTSTAMP:20260420T170223
CREATED:20230425T101024Z
LAST-MODIFIED:20230425T101024Z
UID:1387-1682409600-1682442000@mdnpham.fr
SUMMARY:Cercle de parole: Le troisième trimestre sous le signe de l'ocytocine
DESCRIPTION:Un cercle de parole où il sera question du rôle de l’ocytocine pendant l’enfantement et comment cultiver sa propre ocytocine pendant le dernier trimestre de la grossesse.\nCercle animé par Camille Depaix \nVoilà le lien pour vous inscrire \n
URL:http://mdnpham.fr/event/cercle-de-parole-le-troisieme-trimestre-sous-le-signe-de-locytocine/
END:VEVENT
END:VCALENDAR