BEGIN:VCALENDAR
VERSION:2.0
PRODID:-//Premières Heures Au Monde - ECPv4.8.1//NONSGML v1.0//EN
CALSCALE:GREGORIAN
METHOD:PUBLISH
X-WR-CALNAME:Premières Heures Au Monde
X-ORIGINAL-URL:http://mdnpham.fr
X-WR-CALDESC:Évènements pour Premières Heures Au Monde
BEGIN:VEVENT
DTSTART;TZID=UTC+0:20240515T203000
DTEND;TZID=UTC+0:20240515T220000
DTSTAMP:20260421T103118
CREATED:20240425T093401Z
LAST-MODIFIED:20240425T093401Z
UID:1733-1715805000-1715810400@mdnpham.fr
SUMMARY:Discussion autour de la naissance respecté avec Quantik Mama
DESCRIPTION:Discussion autour de la naissance respectée et des pouvoirs du corps de la femme qui enfante\nAnimé par Karine Quantik Mama \nEn visio \nPrix 5€ \nVoilà le lien pour vous inscrire \n
URL:http://mdnpham.fr/event/discussion-autour-de-la-naissance-respecte-avec-quantik-mama/
END:VEVENT
END:VCALENDAR