BEGIN:VCALENDAR
VERSION:2.0
PRODID:-//Premières Heures Au Monde - ECPv4.8.1//NONSGML v1.0//EN
CALSCALE:GREGORIAN
METHOD:PUBLISH
X-WR-CALNAME:Premières Heures Au Monde
X-ORIGINAL-URL:http://mdnpham.fr
X-WR-CALDESC:Évènements pour Premières Heures Au Monde
BEGIN:VEVENT
DTSTART;TZID=UTC+0:20240514T100000
DTEND;TZID=UTC+0:20240514T120000
DTSTAMP:20260421T091333
CREATED:20231222T101552Z
LAST-MODIFIED:20231222T101552Z
UID:1601-1715680800-1715688000@mdnpham.fr
SUMMARY:Exploration émotionnelle: Mettre des mots sur l'accouchement VISIO
DESCRIPTION:Un atelier d’écriture animé par Claire Schepers pour mettre des mots sur la naissance\nEn visio sur la plateforme zoom \nVoilà le lien pour vous inscrire \n
URL:http://mdnpham.fr/event/exploration-emotionnelle-mettre-des-mots-sur-laccouchement-visio/
END:VEVENT
END:VCALENDAR