BEGIN:VCALENDAR
VERSION:2.0
PRODID:-//Premières Heures Au Monde - ECPv4.8.1//NONSGML v1.0//EN
CALSCALE:GREGORIAN
METHOD:PUBLISH
X-WR-CALNAME:Premières Heures Au Monde
X-ORIGINAL-URL:http://mdnpham.fr
X-WR-CALDESC:Évènements pour Premières Heures Au Monde
BEGIN:VEVENT
DTSTART;TZID=UTC+0:20240517T093000
DTEND;TZID=UTC+0:20240517T113000
DTSTAMP:20260421T120328
CREATED:20240329T092730Z
LAST-MODIFIED:20240329T092730Z
UID:1714-1715938200-1715945400@mdnpham.fr
SUMMARY:Kangatraining
DESCRIPTION:Venez participer à un cours de kangatraining avec votre bébé accompagné par Lydia Cazeaux\nActivité physique post-accouchement répondant aux besoins de la jeune maman et de son bébé et procurant un moment de bien-être partagé. Cet instant privilégié avec votre tout petit vous permet de renforcer le lien avec lui. Sereine par sa présence\, vous pourrez prendre soin de vous et vous remettre en mouvement grâce à une pratique sécurisée pour la période post-natale. \nVoilà le lien pour vous inscrire \n
URL:http://mdnpham.fr/event/kangatraining/
LOCATION:Maison de naissance PHAM\, 30 avenue du Médipôle\, Bourgoin-Jallieu
END:VEVENT
END:VCALENDAR