BEGIN:VCALENDAR
VERSION:2.0
PRODID:-//Premières Heures Au Monde - ECPv4.8.1//NONSGML v1.0//EN
CALSCALE:GREGORIAN
METHOD:PUBLISH
X-WR-CALNAME:Premières Heures Au Monde
X-ORIGINAL-URL:http://mdnpham.fr
X-WR-CALDESC:Évènements pour Premières Heures Au Monde
BEGIN:VEVENT
DTSTART;TZID=UTC+0:20231201T180000
DTEND;TZID=UTC+0:20231201T230000
DTSTAMP:20260420T233405
CREATED:20230922T084358Z
LAST-MODIFIED:20231117T100051Z
UID:1496-1701453600-1701471600@mdnpham.fr
SUMMARY:Soirée hommage aux sages-femmes
DESCRIPTION:Soirée hommage aux sages-femmes de PHAM\n18h30 Temps convivial: Résultat de la Tombola et Apéritif partagé\n20h30 Projection du documentaire de Audrey Gloaguen « tu enfanteras dans la Douceur » tourné à la maison de naissance et à la maternité Discussion après le film \nVoilà le lien pour vous inscrire à cette soirée \n
URL:http://mdnpham.fr/event/projection-tu-enfanteras-dans-la-douceur-tombola/
LOCATION:Maison de naissance PHAM\, 30 avenue du Médipôle\, Bourgoin-Jallieu
END:VEVENT
END:VCALENDAR