BEGIN:VCALENDAR
VERSION:2.0
PRODID:-//Premières Heures Au Monde - ECPv4.8.1//NONSGML v1.0//EN
CALSCALE:GREGORIAN
METHOD:PUBLISH
X-WR-CALNAME:Premières Heures Au Monde
X-ORIGINAL-URL:http://mdnpham.fr
X-WR-CALDESC:Évènements pour Premières Heures Au Monde
BEGIN:VEVENT
DTSTART;TZID=UTC+0:20221216T093000
DTEND;TZID=UTC+0:20221216T113000
DTSTAMP:20260420T090706
CREATED:20221010T100425Z
LAST-MODIFIED:20221010T100425Z
UID:1168-1671183000-1671190200@mdnpham.fr
SUMMARY:Réunion d’allaitement avec Galactée: Allaitement et Sommeil
DESCRIPTION:Réunion d’information sur l’allaitement et le sommeil en collaboration avec l’association Galactée. Animé par Marine Mandaroux en présentiel à PHAM Vous avez des questions sur le sommeil de votre bébé ou bambin allaité et vous aimeriez partager votre expérience avec d’autres parents\, venez échanger autour du sommeil qui est essentiel pour toute la famille. \nVoici le lien pour vous inscrire \n
URL:http://mdnpham.fr/event/reunion-dallaitement-avec-galactee-allaitement-et-sommeil/
LOCATION:Maison de naissance PHAM\, 30 avenue du Médipôle\, Bourgoin-Jallieu
END:VEVENT
END:VCALENDAR