BEGIN:VCALENDAR
VERSION:2.0
PRODID:-//Premières Heures Au Monde - ECPv4.8.1//NONSGML v1.0//EN
CALSCALE:GREGORIAN
METHOD:PUBLISH
X-WR-CALNAME:Premières Heures Au Monde
X-ORIGINAL-URL:http://mdnpham.fr
X-WR-CALDESC:Évènements pour Premières Heures Au Monde
BEGIN:VEVENT
DTSTART;TZID=UTC+0:20230120T093000
DTEND;TZID=UTC+0:20230120T113000
DTSTAMP:20260420T090558
CREATED:20221010T101009Z
LAST-MODIFIED:20221010T101009Z
UID:1170-1674207000-1674214200@mdnpham.fr
SUMMARY:Réunion d’allaitement avec Galactée: Bien démarrer son allaitement
DESCRIPTION:Réunion d’information sur les débuts de l’allaitement en collaboration avec l’association Galactée. Animé par Marine Mandaroux en présentiel à PHAM Vous êtes enceintes et vous souhaitez allaiter ou vous renseigner sur l’allaitement. Vous êtes une jeune maman d’un nouveau-né et démarré l’aventure lactée avec votre bébé… Venez partager vos questions et expériences\, en complément de votre préparation à la naissance avec votre sage-femme. \nVoici le lien pour vous inscrire \n
URL:http://mdnpham.fr/event/reunion-dallaitement-avec-galactee-bien-demarrer-son-allaitement/
LOCATION:Maison de naissance PHAM\, 30 avenue du Médipôle\, Bourgoin-Jallieu
END:VEVENT
END:VCALENDAR