BEGIN:VCALENDAR
VERSION:2.0
PRODID:-//Premières Heures Au Monde - ECPv4.8.1//NONSGML v1.0//EN
CALSCALE:GREGORIAN
METHOD:PUBLISH
X-WR-CALNAME:Premières Heures Au Monde
X-ORIGINAL-URL:http://mdnpham.fr
X-WR-CALDESC:Évènements pour Premières Heures Au Monde
BEGIN:VEVENT
DTSTART;TZID=UTC+0:20240206T123000
DTEND;TZID=UTC+0:20240206T133000
DTSTAMP:20260421T072259
CREATED:20240202T141306Z
LAST-MODIFIED:20240202T141306Z
UID:1646-1707222600-1707226200@mdnpham.fr
SUMMARY:Réunion du collectif de parents
DESCRIPTION:Nous vous proposons une réunion du collectif afin de discuter: \n\ndu week-end Bébé en collaboration avec le théâtre du Vellein\nde vos envies et attentes pour la Semaine Mondiale de l’Accouchement Respecté\n\nCette réunion est ouverte à tous les parents qui souhaitent s’investir de près ou de loin dans l’association. Vous êtes les bienvenus pour donner vos idées et partager vos compétences!! \nRejoindre Zoom Réunion\nhttps://us02web.zoom.us/j/85709262073?pwd=Vm9WUDBwNnpFWXZOOTdYRzdOeGxrUT09 \nID de réunion: 857 0926 2073\nCode secret: 379708 \n
URL:http://mdnpham.fr/event/reunion-du-collectif-de-parents/
END:VEVENT
END:VCALENDAR