BEGIN:VCALENDAR
VERSION:2.0
PRODID:-//Premières Heures Au Monde - ECPv4.8.1//NONSGML v1.0//EN
CALSCALE:GREGORIAN
METHOD:PUBLISH
X-WR-CALNAME:Premières Heures Au Monde
X-ORIGINAL-URL:http://mdnpham.fr
X-WR-CALDESC:Évènements pour Premières Heures Au Monde
BEGIN:VEVENT
DTSTART;TZID=UTC+0:20231124T093000
DTEND;TZID=UTC+0:20231124T113000
DTSTAMP:20260420T220029
CREATED:20230711T093838Z
LAST-MODIFIED:20230711T093838Z
UID:1450-1700818200-1700825400@mdnpham.fr
SUMMARY:Réunion Galactée: Allaitement et reprise du travail
DESCRIPTION:Réunion sur l’allaitement et la reprise du travail en collaboration avec l’association Galactée. Animé par Marine Mandaroux en présentiel à PHAM \nVenez partager vos questions autour de la reprise du travail mais également partager vos expériences auprès d’autres parents si vous avez déjà repris le travail tout en continuant l’allaitement. \nVoilà le lien pour vous inscrire \n
URL:http://mdnpham.fr/event/reunion-galactee-allaitement-et-reprise-du-travail/
END:VEVENT
END:VCALENDAR