BEGIN:VCALENDAR
VERSION:2.0
PRODID:-//Premières Heures Au Monde - ECPv4.8.1//NONSGML v1.0//EN
CALSCALE:GREGORIAN
METHOD:PUBLISH
X-WR-CALNAME:Premières Heures Au Monde
X-ORIGINAL-URL:http://mdnpham.fr
X-WR-CALDESC:Évènements pour Premières Heures Au Monde
BEGIN:VEVENT
DTSTART;TZID=UTC+0:20230922T093000
DTEND;TZID=UTC+0:20230922T113000
DTSTAMP:20260420T214821
CREATED:20230711T093430Z
LAST-MODIFIED:20230711T093459Z
UID:1446-1695375000-1695382200@mdnpham.fr
SUMMARY:Réunion Galactée: Allaitement et Sommeil
DESCRIPTION:Réunion d’information sur l’allaitement et le sommeil en collaboration avec l’association Galactée. Animé par Marine Mandaroux en présentiel à PHAM Vous avez des questions sur le sommeil de votre bébé ou bambin allaité et vous aimeriez partager votre expérience avec d’autres parents\, venez échanger autour du sommeil qui est essentiel pour toute la famille. \nVoilà le lien pour vous inscrire \n
URL:http://mdnpham.fr/event/reunion-galactee-allaitement-et-sommeil/
LOCATION:Maison de naissance PHAM\, 30 avenue du Médipôle\, Bourgoin-Jallieu
END:VEVENT
END:VCALENDAR