BEGIN:VCALENDAR
VERSION:2.0
PRODID:-//Premières Heures Au Monde - ECPv4.8.1//NONSGML v1.0//EN
CALSCALE:GREGORIAN
METHOD:PUBLISH
X-WR-CALNAME:Premières Heures Au Monde
X-ORIGINAL-URL:http://mdnpham.fr
X-WR-CALDESC:Évènements pour Premières Heures Au Monde
BEGIN:VEVENT
DTSTART;TZID=UTC+0:20240625T130000
DTEND;TZID=UTC+0:20240625T150000
DTSTAMP:20260421T153544
CREATED:20240531T131844Z
LAST-MODIFIED:20240603T113323Z
UID:1763-1719320400-1719327600@mdnpham.fr
SUMMARY:Réunion Galactée d'informations générales sur l'allaitement
DESCRIPTION:Réunion Galactée: Informations générales sur l’allaitement\nAnimé par Marine Mandaroux\, bénévole de l’association Galactée.\nL’occasion de poser toutes vos questions et de partager vos expériences sur l’allaitement \nVoilà le lien pour vous inscrire \n
URL:http://mdnpham.fr/event/reunion-galactee-dinformations-generales-sur-lallaitement/
LOCATION:Maison de naissance PHAM\, 30 avenue du Médipôle\, Bourgoin-Jallieu
END:VEVENT
END:VCALENDAR