BEGIN:VCALENDAR
VERSION:2.0
PRODID:-//Premières Heures Au Monde - ECPv4.8.1//NONSGML v1.0//EN
CALSCALE:GREGORIAN
METHOD:PUBLISH
X-WR-CALNAME:Premières Heures Au Monde
X-ORIGINAL-URL:http://mdnpham.fr
X-WR-CALDESC:Évènements pour Premières Heures Au Monde
BEGIN:VEVENT
DTSTART;TZID=UTC+0:20240517T140000
DTEND;TZID=UTC+0:20240517T160000
DTSTAMP:20260421T150834
CREATED:20240318T112135Z
LAST-MODIFIED:20240318T112135Z
UID:1680-1715954400-1715961600@mdnpham.fr
SUMMARY:Réunion Galactée Les débuts de l'allaitement
DESCRIPTION:Réunion d’information sur les débuts de l’allaitement en collaboration avec l’association Galactée. Animé par Marine Mandaroux en présentiel à PHAM Vous êtes enceintes et vous souhaitez allaiter ou vous renseigner sur l’allaitement. Vous êtes une jeune maman d’un nouveau-né et vous démarrez l’aventure lactée avec votre bébé… Venez partager vos questions et expériences \nVoilà le lien pour vous inscrire \n
URL:http://mdnpham.fr/event/reunion-galactee-les-debuts-de-lallaitement/
LOCATION:Maison de naissance PHAM\, 30 avenue du Médipôle\, Bourgoin-Jallieu
END:VEVENT
END:VCALENDAR