BEGIN:VCALENDAR
VERSION:2.0
PRODID:-//Premières Heures Au Monde - ECPv4.8.1//NONSGML v1.0//EN
CALSCALE:GREGORIAN
METHOD:PUBLISH
X-WR-CALNAME:Premières Heures Au Monde
X-ORIGINAL-URL:http://mdnpham.fr
X-WR-CALDESC:Évènements pour Premières Heures Au Monde
BEGIN:VEVENT
DTSTART;TZID=UTC+0:20230406T093000
DTEND;TZID=UTC+0:20230406T113000
DTSTAMP:20260420T165116
CREATED:20230220T090652Z
LAST-MODIFIED:20230220T091917Z
UID:1260-1680773400-1680780600@mdnpham.fr
SUMMARY:Sophro pré-natale
DESCRIPTION:Tout savoir sur la sophrologie et comment s’en servir pendant la grossesse et le jour de l’accouchement. \nVoilà le lien pour vous inscrire \n
URL:http://mdnpham.fr/event/sophro-pre-natale/
LOCATION:Maison de naissance PHAM\, 30 avenue du Médipôle\, Bourgoin-Jallieu
END:VEVENT
END:VCALENDAR