BEGIN:VCALENDAR
VERSION:2.0
PRODID:-//Premières Heures Au Monde - ECPv4.8.1//NONSGML v1.0//EN
CALSCALE:GREGORIAN
METHOD:PUBLISH
X-WR-CALNAME:Premières Heures Au Monde
X-ORIGINAL-URL:http://mdnpham.fr
X-WR-CALDESC:Évènements pour Premières Heures Au Monde
BEGIN:VEVENT
DTSTART;TZID=UTC+0:20230516T203000
DTEND;TZID=UTC+0:20230516T220000
DTSTAMP:20260420T201622
CREATED:20230316T110124Z
LAST-MODIFIED:20230509T192121Z
UID:1316-1684269000-1684274400@mdnpham.fr
SUMMARY:Spectacle Le Premier Cri
DESCRIPTION:Voilà le lien pour vous inscrire \npremier Cri est un voyage…\nLe voyage le plus court et le plus long que nous ayons à parcourir à l’échelle\nd’une vie\, celui qui donne naissance aux bébés\, celui qui donne naissance aux\nmères et aux pères\, celui qui s’opère entre les mains des sages-femmes\, des\ngynécologues obstétricien·ne·s…\npremier Cri est une polyphonie.\nLes voix qui s’y mêlent nous parlent de naissance\, d’instants de connivence\net de rendez-vous ratés.\nElles nous parlent de transmission\, de puissance au féminin et de place du\npère à trouver.\nElles nous parlent de blessures\, d’incompréhensions\, du désir de prendre soin\net d’accompagner. \nPar la compagnie Prune \n  \n
URL:http://mdnpham.fr/event/spectacle-le-premier-cri/
END:VEVENT
END:VCALENDAR