BEGIN:VCALENDAR
VERSION:2.0
PRODID:-//Premières Heures Au Monde - ECPv4.8.1//NONSGML v1.0//EN
CALSCALE:GREGORIAN
METHOD:PUBLISH
X-WR-CALNAME:Premières Heures Au Monde
X-ORIGINAL-URL:http://mdnpham.fr
X-WR-CALDESC:Évènements pour Premières Heures Au Monde
BEGIN:VEVENT
DTSTART;TZID=UTC+0:20240216T140000
DTEND;TZID=UTC+0:20240216T153000
DTSTAMP:20260421T052630
CREATED:20231117T095739Z
LAST-MODIFIED:20231117T095739Z
UID:1537-1708092000-1708097400@mdnpham.fr
SUMMARY:Yoga post natal
DESCRIPTION:Séance de yoga post-natale dispensée par Sidonie Dielbold\, sage-femme et monitrice de yogales bébés sont les bienvenus jusqu’à 6 mois environ. Prévoir d’emmener un tapis de yoga plaid et coussin si possible. \nVoilà le lien pour vous inscrire \n
URL:http://mdnpham.fr/event/yoga-post-natal-3/
LOCATION:Maison de naissance PHAM\, 30 avenue du Médipôle\, Bourgoin-Jallieu
END:VEVENT
END:VCALENDAR