BEGIN:VCALENDAR
VERSION:2.0
PRODID:-//Premières Heures Au Monde - ECPv4.8.1//NONSGML v1.0//EN
CALSCALE:GREGORIAN
METHOD:PUBLISH
X-WR-CALNAME:Premières Heures Au Monde
X-ORIGINAL-URL:http://mdnpham.fr
X-WR-CALDESC:Évènements pour Premières Heures Au Monde
BEGIN:VEVENT
DTSTART;TZID=UTC+0:20221125T093000
DTEND;TZID=UTC+0:20221125T123000
DTSTAMP:20260424T183629
CREATED:20221010T095526Z
LAST-MODIFIED:20221010T100128Z
UID:1165-1669368600-1669379400@mdnpham.fr
SUMMARY:Réunion d’allaitement avec Galactée: Reprise du travail
DESCRIPTION:Réunion sur l’allaitement et la reprise du travail en collaboration avec l’association Galactée. Animé par Marine Mandaroux en présentiel à PHAM \nVenez partager vos questions autour de la reprise du travail mais également partager vos expériences auprès d’autres parents si vous avez déjà repris le travail tout en continuant l’allaitement. \nVoici le lien pour vous inscrire \n
URL:http://mdnpham.fr/event/reunion-dallaitement-avec-galactee-reprise-du-travail/
LOCATION:Maison de naissance PHAM\, 30 avenue du Médipôle\, Bourgoin-Jallieu
END:VEVENT
END:VCALENDAR