BEGIN:VCALENDAR
VERSION:2.0
PRODID:-//Premières Heures Au Monde - ECPv4.8.1//NONSGML v1.0//EN
CALSCALE:GREGORIAN
METHOD:PUBLISH
X-WR-CALNAME:Premières Heures Au Monde
X-ORIGINAL-URL:http://mdnpham.fr
X-WR-CALDESC:Évènements pour Premières Heures Au Monde
BEGIN:VEVENT
DTSTART;TZID=UTC+0:20230216T203000
DTEND;TZID=UTC+0:20230216T223000
DTSTAMP:20260419T143106
CREATED:20221026T075856Z
LAST-MODIFIED:20221026T075856Z
UID:1181-1676579400-1676586600@mdnpham.fr
SUMMARY:Café des parents: Être parent d'une fratrie de 2\,3\,4 enfants ou plus
DESCRIPTION:Temps d’échange libre et convivial entre parents pour discuter sur le thème de la fratrie. L’occasion d’échanger des témoignages et des astuces. En visio sur la plateforme ZOOM. \nVoici le lien pour vous inscrire \n
URL:http://mdnpham.fr/event/cafe-des-parents-etre-parent-dune-fratrie-de-234-enfants-ou-plus/
END:VEVENT
END:VCALENDAR